BEGIN:VCALENDAR
VERSION:2.0
PRODID:-//Yume Music - ECPv5.14.1//NONSGML v1.0//EN
CALSCALE:GREGORIAN
METHOD:PUBLISH
X-WR-CALNAME:Yume Music
X-ORIGINAL-URL:https://yumemusic.es
X-WR-CALDESC:Eventos para Yume Music
BEGIN:VTIMEZONE
TZID:Europe/Madrid
BEGIN:DAYLIGHT
TZOFFSETFROM:+0100
TZOFFSETTO:+0200
TZNAME:CEST
DTSTART:20190331T010000
END:DAYLIGHT
BEGIN:STANDARD
TZOFFSETFROM:+0200
TZOFFSETTO:+0100
TZNAME:CET
DTSTART:20191027T010000
END:STANDARD
END:VTIMEZONE
BEGIN:VEVENT
DTSTART;TZID=Europe/Madrid:20190927T200000
DTEND;TZID=Europe/Madrid:20190927T210000
DTSTAMP:20260416T120931
CREATED:20190926T163344Z
LAST-MODIFIED:20190927T104639Z
UID:5342-1569614400-1569618000@yumemusic.es
SUMMARY:Concierto Presentación de Disco de Musicoterapia: "El silencio de mi voz"
DESCRIPTION:
URL:https://yumemusic.es/evento/concierto-presentacion-de-disco-de-musicoterapia/
LOCATION:Casa del Tibet\, C/ Roselló\, 181\, Barcelona\, España
ATTACH;FMTTYPE=image/jpeg:https://yumemusic.es/wp-content/uploads/2019/09/NUEVO-DISCO-copia.jpg
END:VEVENT
END:VCALENDAR