BEGIN:VCALENDAR
VERSION:2.0
PRODID:-//Yume Music - ECPv5.14.1//NONSGML v1.0//EN
CALSCALE:GREGORIAN
METHOD:PUBLISH
X-WR-CALNAME:Yume Music
X-ORIGINAL-URL:https://yumemusic.es
X-WR-CALDESC:Eventos para Yume Music
BEGIN:VTIMEZONE
TZID:UTC
BEGIN:STANDARD
TZOFFSETFROM:+0000
TZOFFSETTO:+0000
TZNAME:UTC
DTSTART:20150101T000000
END:STANDARD
END:VTIMEZONE
BEGIN:VEVENT
DTSTART;TZID=UTC:20150227T203000
DTEND;TZID=UTC:20150227T203000
DTSTAMP:20260416T121022
CREATED:20190827T102850Z
LAST-MODIFIED:20190827T110028Z
UID:4943-1425069000-1425069000@yumemusic.es
SUMMARY:CONCIERTO “VIAJE SONORO”
DESCRIPTION:El próximo día 27 de febrero tendremos la oportunidad de dar un Concierto “Viaje Sonoro”\, con instrumentos terapéuticos como los Cuencos Tibetanos\, Gongs\, Kigoki\, Tambor oceánico\, voz\, etc. Será en el Centro “Yoga Bilbao” en la C/ Bertendona\, 1. \nSerá a cargo de los músicos y musicoterapeutas  Andoni Leiva y Noemí Primo. \nPara más información y reservas: info@yumemusic.es
URL:https://yumemusic.es/evento/concierto-viaje-sonoro/
ATTACH;FMTTYPE=image/jpeg:https://yumemusic.es/wp-content/uploads/2019/08/CARTEL-CONCIERTO-CUENCOS-YogaenBilbao-310x439.jpg
END:VEVENT
END:VCALENDAR